Package: mzID Version: 1.45.0 Command: /home/rapidbuild/bbs-3.21-bioc-rapid/R/bin/R CMD INSTALL mzID StartedAt: 2025-02-17 12:09:45 -0500 (Mon, 17 Feb 2025) EndedAt: 2025-02-17 12:09:49 -0500 (Mon, 17 Feb 2025) EllapsedTime: 4.0 seconds RetCode: 0 Status: OK