Package: multtest Version: 2.63.0 Command: /home/rapidbuild/bbs-3.21-bioc-rapid/R/bin/R CMD INSTALL multtest StartedAt: 2025-02-05 06:12:33 -0500 (Wed, 05 Feb 2025) EndedAt: 2025-02-05 06:12:45 -0500 (Wed, 05 Feb 2025) EllapsedTime: 12.0 seconds RetCode: 0 Status: OK