Package: microRNA Version: 1.65.1 Command: /home/rapidbuild/bbs-3.21-bioc-rapid/R/bin/R CMD build --keep-empty-dirs --no-resave-data microRNA StartedAt: 2025-02-06 07:12:25 -0500 (Thu, 06 Feb 2025) EndedAt: 2025-02-06 07:12:28 -0500 (Thu, 06 Feb 2025) EllapsedTime: 3.0 seconds RetCode: 0 Status: OK PackageFile: microRNA_1.65.1.tar.gz PackageFileSize: 5.743 MiB