Package: microRNA Version: 1.65.1 Maintainer: "Michael Lawrence" MaintainerEmail: michafla at gene.com git_url: https://git.bioconductor.org/packages/microRNA git_branch: devel git_last_commit: a40bf50 git_last_commit_date: 2025-02-04 16:32:26 -0500 (Tue, 04 Feb 2025)