Package: metapod Version: 1.15.0 Command: /home/rapidbuild/bbs-3.21-bioc-rapid/R/bin/R CMD INSTALL metapod StartedAt: 2025-02-17 12:08:13 -0500 (Mon, 17 Feb 2025) EndedAt: 2025-02-17 12:08:32 -0500 (Mon, 17 Feb 2025) EllapsedTime: 19.2 seconds RetCode: 0 Status: OK