Package: metapod Version: 1.15.0 Command: /home/rapidbuild/bbs-3.21-bioc-rapid/R/bin/R CMD build --keep-empty-dirs --no-resave-data metapod StartedAt: 2025-02-17 13:06:38 -0500 (Mon, 17 Feb 2025) EndedAt: 2025-02-17 13:06:58 -0500 (Mon, 17 Feb 2025) EllapsedTime: 20.0 seconds RetCode: 0 Status: OK PackageFile: metapod_1.15.0.tar.gz PackageFileSize: 324 KiB