Package: keggorthology Version: 2.59.0 Command: /home/rapidbuild/bbs-3.21-bioc-rapid/R/bin/R CMD INSTALL keggorthology StartedAt: 2025-02-21 12:21:23 -0500 (Fri, 21 Feb 2025) EndedAt: 2025-02-21 12:21:35 -0500 (Fri, 21 Feb 2025) EllapsedTime: 11.4 seconds RetCode: 0 Status: OK