Package: illuminaio Version: 0.49.0 Command: /home/rapidbuild/bbs-3.21-bioc-rapid/R/bin/R CMD INSTALL illuminaio StartedAt: 2025-02-11 06:14:06 -0500 (Tue, 11 Feb 2025) EndedAt: 2025-02-11 06:14:08 -0500 (Tue, 11 Feb 2025) EllapsedTime: 2.0 seconds RetCode: 0 Status: OK