Package: h5mread Version: 0.99.4 Command: /home/rapidbuild/bbs-3.21-bioc-rapid/R/bin/R CMD INSTALL h5mread StartedAt: 2025-02-05 06:13:32 -0500 (Wed, 05 Feb 2025) EndedAt: 2025-02-05 06:13:50 -0500 (Wed, 05 Feb 2025) EllapsedTime: 17.8 seconds RetCode: 0 Status: OK