Package: h5mread Version: 0.99.4 Command: /home/rapidbuild/bbs-3.21-bioc-rapid/R/bin/R CMD check --install=check:h5mread.install-out.txt --library=/home/rapidbuild/bbs-3.21-bioc-rapid/R/site-library --timings h5mread_0.99.4.tar.gz StartedAt: 2025-02-10 08:57:00 -0500 (Mon, 10 Feb 2025) EndedAt: 2025-02-10 09:02:44 -0500 (Mon, 10 Feb 2025) EllapsedTime: 344.0 seconds RetCode: 0 Status: WARNINGS CheckDir: h5mread.Rcheck Warnings: 1