Package: gypsum Version: 1.3.0 Command: /home/rapidbuild/bbs-3.21-bioc-rapid/R/bin/R CMD check --install=check:gypsum.install-out.txt --library=/home/rapidbuild/bbs-3.21-bioc-rapid/R/site-library --timings gypsum_1.3.0.tar.gz StartedAt: 2025-02-05 08:52:53 -0500 (Wed, 05 Feb 2025) EndedAt: 2025-02-05 08:53:47 -0500 (Wed, 05 Feb 2025) EllapsedTime: 54.0 seconds RetCode: 0 Status: OK CheckDir: gypsum.Rcheck Warnings: 0