Package: graph Version: 1.85.1 Command: /home/rapidbuild/bbs-3.21-bioc-rapid/R/bin/R CMD INSTALL graph StartedAt: 2025-02-16 06:09:32 -0500 (Sun, 16 Feb 2025) EndedAt: 2025-02-16 06:09:41 -0500 (Sun, 16 Feb 2025) EllapsedTime: 9.0 seconds RetCode: 0 Status: OK