Package: ggbio Version: 1.55.0 Command: /home/rapidbuild/bbs-3.21-bioc-rapid/R/bin/R CMD check --install=check:ggbio.install-out.txt --library=/home/rapidbuild/bbs-3.21-bioc-rapid/R/site-library --timings ggbio_1.55.0.tar.gz StartedAt: 2025-02-11 08:53:00 -0500 (Tue, 11 Feb 2025) EndedAt: 2025-02-11 09:04:33 -0500 (Tue, 11 Feb 2025) EllapsedTime: 693.4 seconds RetCode: 0 Status: WARNINGS CheckDir: ggbio.Rcheck Warnings: 2