Package: fmcsR Version: 1.49.0 Command: /home/rapidbuild/bbs-3.21-bioc-rapid/R/bin/R CMD INSTALL fmcsR StartedAt: 2025-02-20 12:15:02 -0500 (Thu, 20 Feb 2025) EndedAt: 2025-02-20 12:15:17 -0500 (Thu, 20 Feb 2025) EllapsedTime: 15.0 seconds RetCode: 0 Status: OK