Package: flowWorkspace Version: 4.19.0 Command: /home/rapidbuild/bbs-3.21-bioc-rapid/R/bin/R CMD build --keep-empty-dirs --no-resave-data flowWorkspace StartedAt: 2025-02-11 06:53:55 -0500 (Tue, 11 Feb 2025) EndedAt: 2025-02-11 06:56:08 -0500 (Tue, 11 Feb 2025) EllapsedTime: 133.2 seconds RetCode: 0 Status: OK PackageFile: flowWorkspace_4.19.0.tar.gz PackageFileSize: 5.08 MiB