Package: fishpond Version: 2.13.0 Command: /home/rapidbuild/bbs-3.21-bioc-rapid/R/bin/R CMD INSTALL fishpond StartedAt: 2025-02-05 06:27:15 -0500 (Wed, 05 Feb 2025) EndedAt: 2025-02-05 06:27:37 -0500 (Wed, 05 Feb 2025) EllapsedTime: 22.4 seconds RetCode: 0 Status: OK