Package: fishpond Version: 2.13.0 Command: /home/rapidbuild/bbs-3.21-bioc-rapid/R/bin/R CMD check --install=check:fishpond.install-out.txt --library=/home/rapidbuild/bbs-3.21-bioc-rapid/R/site-library --timings fishpond_2.13.0.tar.gz StartedAt: 2025-02-05 08:29:33 -0500 (Wed, 05 Feb 2025) EndedAt: 2025-02-05 08:37:27 -0500 (Wed, 05 Feb 2025) EllapsedTime: 474.1 seconds RetCode: 0 Status: OK CheckDir: fishpond.Rcheck Warnings: 0