Package: fishpond Version: 2.13.0 Command: /home/rapidbuild/bbs-3.21-bioc-rapid/R/bin/R CMD build --keep-empty-dirs --no-resave-data fishpond StartedAt: 2025-02-05 06:50:20 -0500 (Wed, 05 Feb 2025) EndedAt: 2025-02-05 06:53:38 -0500 (Wed, 05 Feb 2025) EllapsedTime: 197.8 seconds RetCode: 0 Status: OK PackageFile: fishpond_2.13.0.tar.gz PackageFileSize: 3.915 MiB