Package: enrichplot Version: 1.27.4 Command: /home/rapidbuild/bbs-3.21-bioc-rapid/R/bin/R CMD INSTALL enrichplot StartedAt: 2025-02-17 12:24:43 -0500 (Mon, 17 Feb 2025) EndedAt: 2025-02-17 12:25:01 -0500 (Mon, 17 Feb 2025) EllapsedTime: 17.6 seconds RetCode: 0 Status: OK