Package: eds Version: 1.9.0 Command: /home/rapidbuild/bbs-3.21-bioc-rapid/R/bin/R CMD INSTALL eds StartedAt: 2025-02-11 06:07:56 -0500 (Tue, 11 Feb 2025) EndedAt: 2025-02-11 06:08:04 -0500 (Tue, 11 Feb 2025) EllapsedTime: 8.2 seconds RetCode: 0 Status: OK