Package: eds Version: 1.9.0 Command: /home/rapidbuild/bbs-3.21-bioc-rapid/R/bin/R CMD check --install=check:eds.install-out.txt --library=/home/rapidbuild/bbs-3.21-bioc-rapid/R/site-library --timings eds_1.9.0.tar.gz StartedAt: 2025-02-11 08:31:23 -0500 (Tue, 11 Feb 2025) EndedAt: 2025-02-11 08:32:01 -0500 (Tue, 11 Feb 2025) EllapsedTime: 38.3 seconds RetCode: 0 Status: OK CheckDir: eds.Rcheck Warnings: 0