Package: eds Version: 1.9.0 Command: /home/rapidbuild/bbs-3.21-bioc-rapid/R/bin/R CMD build --keep-empty-dirs --no-resave-data eds StartedAt: 2025-02-11 06:46:52 -0500 (Tue, 11 Feb 2025) EndedAt: 2025-02-11 06:47:17 -0500 (Tue, 11 Feb 2025) EllapsedTime: 25.3 seconds RetCode: 0 Status: OK PackageFile: eds_1.9.0.tar.gz PackageFileSize: 217.4 KiB