Package: biomformat Version: 1.35.0 Command: /home/rapidbuild/bbs-3.21-bioc-rapid/R/bin/R CMD INSTALL biomformat StartedAt: 2025-02-11 06:08:54 -0500 (Tue, 11 Feb 2025) EndedAt: 2025-02-11 06:08:59 -0500 (Tue, 11 Feb 2025) EllapsedTime: 5.0 seconds RetCode: 0 Status: OK