Package: biocViews Version: 1.75.0 Command: /home/rapidbuild/bbs-3.21-bioc-rapid/R/bin/R CMD INSTALL biocViews StartedAt: 2025-02-05 06:12:12 -0500 (Wed, 05 Feb 2025) EndedAt: 2025-02-05 06:12:18 -0500 (Wed, 05 Feb 2025) EllapsedTime: 6.2 seconds RetCode: 0 Status: OK