Package: biocViews Version: 1.75.0 Command: /home/rapidbuild/bbs-3.21-bioc-rapid/R/bin/R CMD build --keep-empty-dirs --no-resave-data biocViews StartedAt: 2025-02-10 06:39:31 -0500 (Mon, 10 Feb 2025) EndedAt: 2025-02-10 06:39:42 -0500 (Mon, 10 Feb 2025) EllapsedTime: 11.0 seconds RetCode: 0 Status: OK PackageFile: biocViews_1.75.0.tar.gz PackageFileSize: 506.9 KiB