Package: basilisk Version: 1.19.0 Command: /home/rapidbuild/bbs-3.21-bioc-rapid/R/bin/R CMD build --keep-empty-dirs --no-resave-data basilisk StartedAt: 2025-02-06 06:35:04 -0500 (Thu, 06 Feb 2025) EndedAt: 2025-02-06 06:36:50 -0500 (Thu, 06 Feb 2025) EllapsedTime: 105.9 seconds RetCode: 0 Status: OK PackageFile: basilisk_1.19.0.tar.gz PackageFileSize: 263.6 KiB