##############################################################################
##############################################################################
###
### Running command:
###
###   /home/rapidbuild/bbs-3.21-bioc-rapid/R/bin/R CMD build --keep-empty-dirs --no-resave-data basilisk
###
##############################################################################
##############################################################################


* checking for file ‘basilisk/DESCRIPTION’ ... OK
* preparing ‘basilisk’:
* checking DESCRIPTION meta-information ... OK
* installing the package to build vignettes
* creating vignettes ... OK
* checking for LF line-endings in source and make files and shell scripts
* checking for empty or unneeded directories
* building ‘basilisk_1.19.1.tar.gz’