Package: basilisk.utils Version: 1.19.1 Command: /home/rapidbuild/bbs-3.21-bioc-rapid/R/bin/R CMD INSTALL basilisk.utils StartedAt: 2025-02-19 06:06:30 -0500 (Wed, 19 Feb 2025) EndedAt: 2025-02-19 06:06:32 -0500 (Wed, 19 Feb 2025) EllapsedTime: 2.0 seconds RetCode: 0 Status: OK