Package: basilisk.utils Version: 1.19.1 Command: /home/rapidbuild/bbs-3.21-bioc-rapid/R/bin/R CMD build --keep-empty-dirs --no-resave-data basilisk.utils StartedAt: 2025-02-19 06:36:20 -0500 (Wed, 19 Feb 2025) EndedAt: 2025-02-19 06:36:25 -0500 (Wed, 19 Feb 2025) EllapsedTime: 5.0 seconds RetCode: 0 Status: OK PackageFile: basilisk.utils_1.19.1.tar.gz PackageFileSize: 235.3 KiB