Package: assorthead Version: 1.1.13 Command: /home/rapidbuild/bbs-3.21-bioc-rapid/R/bin/R CMD build --keep-empty-dirs --no-resave-data assorthead StartedAt: 2025-02-05 06:32:12 -0500 (Wed, 05 Feb 2025) EndedAt: 2025-02-05 06:32:18 -0500 (Wed, 05 Feb 2025) EllapsedTime: 6.0 seconds RetCode: 0 Status: OK PackageFile: assorthead_1.1.13.tar.gz PackageFileSize: 1.738 MiB