Package: alabaster.se Version: 1.7.0 Command: /home/rapidbuild/bbs-3.21-bioc-rapid/R/bin/R CMD INSTALL alabaster.se StartedAt: 2025-02-20 12:18:16 -0500 (Thu, 20 Feb 2025) EndedAt: 2025-02-20 12:18:40 -0500 (Thu, 20 Feb 2025) EllapsedTime: 23.2 seconds RetCode: 0 Status: OK