Package: alabaster.se Version: 1.7.0 Command: /home/rapidbuild/bbs-3.21-bioc-rapid/R/bin/R CMD check --install=check:alabaster.se.install-out.txt --library=/home/rapidbuild/bbs-3.21-bioc-rapid/R/site-library --timings alabaster.se_1.7.0.tar.gz StartedAt: 2025-02-20 13:41:08 -0500 (Thu, 20 Feb 2025) EndedAt: 2025-02-20 13:44:02 -0500 (Thu, 20 Feb 2025) EllapsedTime: 174.2 seconds RetCode: 0 Status: OK CheckDir: alabaster.se.Rcheck Warnings: 0