Package: alabaster.se Version: 1.7.0 Command: /home/rapidbuild/bbs-3.21-bioc-rapid/R/bin/R CMD build --keep-empty-dirs --no-resave-data alabaster.se StartedAt: 2025-02-20 12:28:41 -0500 (Thu, 20 Feb 2025) EndedAt: 2025-02-20 12:29:14 -0500 (Thu, 20 Feb 2025) EllapsedTime: 32.9 seconds RetCode: 0 Status: OK PackageFile: alabaster.se_1.7.0.tar.gz PackageFileSize: 225.2 KiB