Package: XVector Version: 0.47.2 Command: /home/rapidbuild/bbs-3.21-bioc-rapid/R/bin/R CMD INSTALL XVector StartedAt: 2025-02-13 12:12:39 -0500 (Thu, 13 Feb 2025) EndedAt: 2025-02-13 12:12:51 -0500 (Thu, 13 Feb 2025) EllapsedTime: 12.0 seconds RetCode: 0 Status: OK