Package: XVector Version: 0.47.2 Command: /home/rapidbuild/bbs-3.21-bioc-rapid/R/bin/R CMD check --install=check:XVector.install-out.txt --library=/home/rapidbuild/bbs-3.21-bioc-rapid/R/site-library --timings XVector_0.47.2.tar.gz StartedAt: 2025-02-10 09:49:58 -0500 (Mon, 10 Feb 2025) EndedAt: 2025-02-10 09:50:46 -0500 (Mon, 10 Feb 2025) EllapsedTime: 48.3 seconds RetCode: 0 Status: WARNINGS CheckDir: XVector.Rcheck Warnings: 2