Package: VariantAnnotation Version: 1.53.1 Command: /home/rapidbuild/bbs-3.21-bioc-rapid/R/bin/R CMD INSTALL VariantAnnotation StartedAt: 2025-02-05 06:25:54 -0500 (Wed, 05 Feb 2025) EndedAt: 2025-02-05 06:26:59 -0500 (Wed, 05 Feb 2025) EllapsedTime: 64.9 seconds RetCode: 0 Status: OK