Package: UCSC.utils Version: 1.3.1 Command: /home/rapidbuild/bbs-3.21-bioc-rapid/R/bin/R CMD check --install=check:UCSC.utils.install-out.txt --library=/home/rapidbuild/bbs-3.21-bioc-rapid/R/site-library --timings UCSC.utils_1.3.1.tar.gz StartedAt: 2025-02-16 09:19:28 -0500 (Sun, 16 Feb 2025) EndedAt: 2025-02-16 09:20:19 -0500 (Sun, 16 Feb 2025) EllapsedTime: 51.0 seconds RetCode: 0 Status: OK CheckDir: UCSC.utils.Rcheck Warnings: 0