Package: Spectra Version: 1.17.5 Command: /home/rapidbuild/bbs-3.21-bioc-rapid/R/bin/R CMD INSTALL Spectra StartedAt: 2025-02-05 06:16:09 -0500 (Wed, 05 Feb 2025) EndedAt: 2025-02-05 06:16:22 -0500 (Wed, 05 Feb 2025) EllapsedTime: 12.2 seconds RetCode: 0 Status: OK