Package: Spectra Version: 1.17.5 Command: /home/rapidbuild/bbs-3.21-bioc-rapid/R/bin/R CMD build --keep-empty-dirs --no-resave-data Spectra StartedAt: 2025-02-05 07:41:16 -0500 (Wed, 05 Feb 2025) EndedAt: 2025-02-05 07:42:02 -0500 (Wed, 05 Feb 2025) EllapsedTime: 46.0 seconds RetCode: 0 Status: OK PackageFile: Spectra_1.17.5.tar.gz PackageFileSize: 1.797 MiB