Package: S4Arrays Version: 1.7.3 Command: /home/rapidbuild/bbs-3.21-bioc-rapid/R/bin/R CMD INSTALL S4Arrays StartedAt: 2025-02-19 06:13:10 -0500 (Wed, 19 Feb 2025) EndedAt: 2025-02-19 06:13:25 -0500 (Wed, 19 Feb 2025) EllapsedTime: 15.4 seconds RetCode: 0 Status: OK