Package: ROC Version: 1.83.0 Command: /home/rapidbuild/bbs-3.21-bioc-rapid/R/bin/R CMD INSTALL ROC StartedAt: 2025-02-17 12:13:03 -0500 (Mon, 17 Feb 2025) EndedAt: 2025-02-17 12:13:06 -0500 (Mon, 17 Feb 2025) EllapsedTime: 2.2 seconds RetCode: 0 Status: OK