Package: ROC Version: 1.83.0 Command: /home/rapidbuild/bbs-3.21-bioc-rapid/R/bin/R CMD build --keep-empty-dirs --no-resave-data ROC StartedAt: 2025-02-17 13:19:09 -0500 (Mon, 17 Feb 2025) EndedAt: 2025-02-17 13:19:13 -0500 (Mon, 17 Feb 2025) EllapsedTime: 4.0 seconds RetCode: 0 Status: OK PackageFile: ROC_1.83.0.tar.gz PackageFileSize: 251.1 KiB