Package: MsDataHub Version: 1.7.0 Command: /home/rapidbuild/bbs-3.21-bioc-rapid/R/bin/R CMD build --keep-empty-dirs --no-resave-data MsDataHub StartedAt: 2025-02-05 07:13:34 -0500 (Wed, 05 Feb 2025) EndedAt: 2025-02-05 07:16:51 -0500 (Wed, 05 Feb 2025) EllapsedTime: 197.0 seconds RetCode: 0 Status: OK PackageFile: MsDataHub_1.7.0.tar.gz PackageFileSize: 368.8 KiB