Package: MetaboCoreUtils Version: 1.15.0 Command: /home/rapidbuild/bbs-3.21-bioc-rapid/R/bin/R CMD INSTALL MetaboCoreUtils StartedAt: 2025-02-05 06:16:04 -0500 (Wed, 05 Feb 2025) EndedAt: 2025-02-05 06:16:09 -0500 (Wed, 05 Feb 2025) EllapsedTime: 5.0 seconds RetCode: 0 Status: OK