Package: MetaboCoreUtils Version: 1.15.0 Command: /home/rapidbuild/bbs-3.21-bioc-rapid/R/bin/R CMD check --install=check:MetaboCoreUtils.install-out.txt --library=/home/rapidbuild/bbs-3.21-bioc-rapid/R/site-library --timings MetaboCoreUtils_1.15.0.tar.gz StartedAt: 2025-02-05 09:05:38 -0500 (Wed, 05 Feb 2025) EndedAt: 2025-02-05 09:06:18 -0500 (Wed, 05 Feb 2025) EllapsedTime: 40.0 seconds RetCode: 0 Status: OK CheckDir: MetaboCoreUtils.Rcheck Warnings: 0