Package: HubPub Version: 1.15.3 Command: /home/rapidbuild/bbs-3.21-bioc-rapid/R/bin/R CMD check --install=check:HubPub.install-out.txt --library=/home/rapidbuild/bbs-3.21-bioc-rapid/R/site-library --timings HubPub_1.15.3.tar.gz StartedAt: 2025-02-11 09:06:29 -0500 (Tue, 11 Feb 2025) EndedAt: 2025-02-11 09:08:40 -0500 (Tue, 11 Feb 2025) EllapsedTime: 130.6 seconds RetCode: 0 Status: OK CheckDir: HubPub.Rcheck Warnings: 0