Back to Rapid builds (Linux only) of a subset of BioC 3.21
Report updated every 6 hours

This page was generated on 2025-02-05 10:04 -0500 (Wed, 05 Feb 2025).

HostnameOSArch (*)R versionInstalled pkgs
teran2Linux (Ubuntu 24.04.1 LTS)x86_64R Under development (unstable) (2025-01-20 r87609) -- "Unsuffered Consequences" 869
Click on any hostname to see more info about the system (e.g. compilers)      (*) as reported by 'uname -p', except on Windows and Mac OS X

All results for package HDF5Array


To the developers/maintainers of the HDF5Array package:
- Use the following Renviron settings to reproduce errors and warnings.
- If 'R CMD check' started to fail recently on the Linux builder(s) over a missing dependency, add the missing dependency to 'Suggests:' in your DESCRIPTION file. See Renviron.bioc for more information.

raw results

Package 113/217HostnameOS / ArchINSTALLBUILDCHECK
HDF5Array 1.35.11  (landing page)
Hervé Pagès
Snapshot Date: 2025-02-05 06:00 -0500 (Wed, 05 Feb 2025)
git_url: https://git.bioconductor.org/packages/HDF5Array
git_branch: devel
git_last_commit: 9dba0b6
git_last_commit_date: 2025-02-04 15:02:07 -0500 (Tue, 04 Feb 2025)
teran2Linux (Ubuntu 24.04.1 LTS) / x86_64  OK    OK    OK