Package: GenomicFeatures Version: 1.59.1 Command: /home/rapidbuild/bbs-3.21-bioc-rapid/R/bin/R CMD check --install=check:GenomicFeatures.install-out.txt --library=/home/rapidbuild/bbs-3.21-bioc-rapid/R/site-library --timings GenomicFeatures_1.59.1.tar.gz StartedAt: 2025-02-05 08:43:29 -0500 (Wed, 05 Feb 2025) EndedAt: 2025-02-05 08:51:26 -0500 (Wed, 05 Feb 2025) EllapsedTime: 476.8 seconds RetCode: 0 Status: OK CheckDir: GenomicFeatures.Rcheck Warnings: 0