Package: GOstats Version: 2.73.0 Command: /home/rapidbuild/bbs-3.21-bioc-rapid/R/bin/R CMD check --install=check:GOstats.install-out.txt --library=/home/rapidbuild/bbs-3.21-bioc-rapid/R/site-library --timings GOstats_2.73.0.tar.gz StartedAt: 2025-02-04 14:37:54 -0500 (Tue, 04 Feb 2025) EndedAt: 2025-02-04 14:49:57 -0500 (Tue, 04 Feb 2025) EllapsedTime: 723.7 seconds RetCode: 0 Status: OK CheckDir: GOstats.Rcheck Warnings: 0