Package: GOstats Version: 2.73.0 Command: /home/rapidbuild/bbs-3.21-bioc-rapid/R/bin/R CMD build --keep-empty-dirs --no-resave-data GOstats StartedAt: 2025-02-05 07:00:02 -0500 (Wed, 05 Feb 2025) EndedAt: 2025-02-05 07:08:29 -0500 (Wed, 05 Feb 2025) EllapsedTime: 506.9 seconds RetCode: 1 Status: ERROR PackageFile: None PackageFileSize: NA